BEGIN:VCALENDAR
VERSION:2.0
PRODID:icalendar-ruby
CALSCALE:GREGORIAN
METHOD:PUBLISH
BEGIN:VEVENT
DTSTAMP:20260420T011751Z
UID:18-2070973@vibrantchurchva.org
DTSTART:20260911T110000Z
DTEND:20260911T123000Z
CLASS:PUBLIC
CREATED:20260419T183513
DESCRIPTION:
LAST-MODIFIED:20260419T183513
LOCATION:903 E. Atlantic Street\, South Hill Va 23970
SUMMARY:Men's Group
URL;VALUE=URI:https://www.vibrantchurchva.org/events/mens-group/2026-09-11
ATTACH;FILENAME=Mens-Breakfast.jpeg;FMTTYPE=image/jpeg:https://dq5pwpg1q8ru
 0.cloudfront.net/2024/03/04/02/52/57/d1825874-02ea-40e5-9120-279c4979178e/
 Mens-Breakfast.jpeg
END:VEVENT
END:VCALENDAR
